Workbook

Sheet Síntese
B1: Checklist "10 aspetos funcionais" | K1: (ver notas de preenchimento, abaixo)
B2: Conformidade e repositório de evidências | K2: Os requisitos enumerados abaixo encontram-se hiperligados às respetivas fichas de recolha de evidências
C5: Designação do sítio web: | G5: Apps para Educação
C6: Endereço do sítio web: | G6: https://appseducacao.rbe.mec.pt
C7: Entidade: | G7: Rede de Bibliotecas Escolares
C8: Data da análise: | G8: 44603
B10: S | C10: N | D10: NA
E11: 1 - MENUS DE NAVEGAÇÃO
B12: =IF('1.1'!$B$3="x","x"," ") -> x | C12: =IF('1.1'!$C$3="x","x"," ") | D12: =IF('1.1'!$D$3="x", "x", " ") | F12: 1.1 O menu de navegação deve estar estruturado como uma lista de opções
B13: =IF('1.2'!$B$3="x","x"," ") -> x | C13: =IF('1.2'!$C$3="x","x"," ") | D13: =IF('1.2'!$D$3="x", "x", " ") | F13: 1.2 É possível selecionar as opções e as subopções do menu quer com rato quer com teclado
B14: =IF('1.3'!$B$3="x","x"," ") | C14: =IF('1.3'!$C$3="x","x"," ") | D14: =IF('1.3'!$D$3="x", "x", " ") -> x | F14: 1.3 As imagens-link, caso existam no menu, devem ter o correspondente equivalente alternativo em texto
E15: 2 - TÍTULOS E SUBTÍTULOS
B16: =IF('2.1'!$B$3="x","x"," ") | C16: =IF('2.1'!$C$3="x","x"," ") | D16: =IF('2.1'!$D$3="x", "x", " ") -> x | F16: 2.1 Existe um título <h1> marcado na página
B17: =IF('2.2'!$B$3="x","x"," ") | C17: =IF('2.2'!$C$3="x","x"," ") | D17: =IF('2.2'!$D$3="x", "x", " ") -> x | F17: 2.2 Existe uma marcação hierarquizada de títulos e subtítulos na página (<h1>...<h6>)
E18: 3 - TABELAS DE DADOS
B19: =IF('3.1'!$B$3="x","x"," ") | C19: =IF('3.1'!$C$3="x","x"," ") | D19: =IF('3.1'!$D$3="x", "x", " ") -> x | F19: 3.1 As células que constituem os cabeçalhos da tabela estão marcadas com o elemento <th>
B20: =IF('3.2'!$B$3="x","x"," ") | C20: =IF('3.2'!$C$3="x","x"," ") | D20: =IF('3.2'!$D$3="x", "x", " ") -> x | F20: 3.2 A legenda da tabela está marcada com o elemento <caption>
E21: 4 - FORMULÁRIOS
B22: =IF('4.1'!$B$3="x","x"," ") | C22: =IF('4.1'!$C$3="x","x"," ") -> x | D22: =IF('4.1'!$D$3="x", "x", " ") | F22: 4.1 Ao clicar com o rato na etiqueta, o cursor surge no respetivo campo de edição
B23: =IF('4.2'!$B$3="x","x"," ") | C23: =IF('4.2'!$C$3="x","x"," ") | D23: =IF('4.2'!$D$3="x", "x", " ") -> x | F23: 4.2 É possível identificar os campos de preenchimento obrigatório quando se usa apenas um leitor de ecrã
B24: =IF('4.3'!$B$3="x","x"," ") | C24: =IF('4.3'!$C$3="x","x"," ") | D24: =IF('4.3'!$D$3="x", "x", " ") -> x | F24: 4.3 É possível localizar e ler as mensagens de erro usando apenas um leitor de ecrã
E25: 5 - GRÁFICOS E IMAGENS-LINK
B26: =IF('5.1'!$B$3="x","x"," ") -> x | C26: =IF('5.1'!$C$3="x","x"," ") | D26: =IF('5.1'!$D$3="x", "x", " ") | F26: 5.1 A imagem ou gráfico tem um equivalente alternativo em texto curto e correto
B27: =IF('5.2'!$B$3="x","x"," ") | C27: =IF('5.2'!$C$3="x","x"," ") | D27: =IF('5.2'!$D$3="x", "x", " ") -> x | F27: 5.2 O gráfico é acompanhado de uma descrição longa
B28: =IF('5.3'!$B$3="x","x"," ") -> x | C28: =IF('5.3'!$C$3="x","x"," ") | D28: =IF('5.3'!$D$3="x", "x", " ") | F28: 5.3 As imagens-link têm um equivalente alternativo correto
E29: 6 - CONTRASTE
B30: =IF('6.1'!$B$3="x","x"," ") -> x | C30: =IF('6.1'!$C$3="x","x"," ") | D30: =IF('6.1'!$D$3="x", "x", " ") | F30: 6.1 No corpo de um documento, o rácio de contraste entre a cor do texto normal (menor que 18 pontos ou menor que 14 pontos negrito) e a cor do fundo é superior a 4,5:1
B31: =IF('6.2'!$B$3="x","x"," ") -> x | C31: =IF('6.2'!$C$3="x","x"," ") | D31: =IF('6.2'!$D$3="x", "x", " ") | F31: 6.2 O rácio de contraste entre a cor do texto de tamanho grande (maior ou igual que 18 pontos ou maior ou igual que 14 pontos negrito) e a cor do fundo é superior a 3:1
E32: 7 - PLAYERS
B33: =IF('7.1'!$B$3="x","x"," ") -> x | C33: =IF('7.1'!$C$3="x","x"," ") | D33: =IF('7.1'!$D$3="x", "x", " ") | F33: 7.1 Deve ser possível ativar os botões de controlo do leitor quer com o rato quer com o teclado
B34: =IF('7.2'!$B$3="x","x"," ") -> x | C34: =IF('7.2'!$C$3="x","x"," ") | D34: =IF('7.2'!$D$3="x", "x", " ") | F34: 7.2 O vídeo ou o áudio deve conter preferencialmente legendas fechadas sincronizadas. Caso não seja possível, no mínimo, deve disponibilizar-se uma transcrição textual
E35: 8 - ESTRUTURA DA PÁGINA
B36: =IF('8.1'!$B$3="x","x"," ") -> x | C36: =IF('8.1'!$C$3="x","x"," ") | D36: =IF('8.1'!$D$3="x", "x", " ") | F36: 8.1 Quando se retira a CSS, todos os elementos HTML devem alinhar à esquerda
B37: =IF('8.2'!$B$3="x","x"," ") -> x | C37: =IF('8.2'!$C$3="x","x"," ") | D37: =IF('8.2'!$D$3="x", "x", " ") | F37: 8.2 Quando se retira a CSS, a informação aparece numa ordem lógica
B38: =IF('8.3'!$B$3="x","x"," ") -> x | C38: =IF('8.3'!$C$3="x","x"," ") | D38: =IF('8.3'!$D$3="x", "x", " ") | F38: 8.3 Quando se retira a CSS, deve ser possível reconhecer a semântica dos diversos elementos
B39: =IF('8.4'!$B$3="x","x"," ") -> x | C39: =IF('8.4'!$C$3="x","x"," ") | D39: =IF('8.4'!$D$3="x", "x", " ") | F39: 8.4 Quando se retira a CSS, a informação relevante permanece visível
B40: =IF('8.5'!$B$3="x","x"," ") -> x | C40: =IF('8.5'!$C$3="x","x"," ") | D40: =IF('8.5'!$D$3="x", "x", " ") | F40: 8.5 A maquetização da página é feita sem recorrer ao elemento <table>
E41: 9 - SINTAXE DE HTML
B42: =IF('9.1'!$B$3="x","x"," ") -> x | C42: =IF('9.1'!$C$3="x","x"," ") | D42: =IF('9.1'!$D$3="x", "x", " ") | F42: 9.1 A página apresenta-se sem erros de (x)HTML
E43: 10 - FICHEIROS PDF
B44: =IF('10.1'!$B$3="x","x"," ") -> x | C44: =IF('10.1'!$C$3="x","x"," ") | D44: =IF('10.1'!$D$3="x", "x", " ") | F44: 10.1 Nos ficheiros PDF é possível, no mínimo, extrair o conteúdo textual para formato TXT
F48: Conformidade:
F49: Testes não aplicáveis: | H49: =COUNTIF(D12:D44,"x") -> 8
F50: Bateria de testes: | H50: 24
H51: =COUNTIF($B$12:$B$44,"x")/(H50-COUNTIF($D$12:$D$44,"x")) -> 0.9375
F53: Nota de preenchimento:
G55: Na "Folha Síntese" há que preencher 4 campos: - Designação do sítio web - Endereço do sítio web - A Entidade proprietária - A data da análise Estes 4 campos estão identificados com fundo amarelo e encontram-se nas células G1 a G8 respetivamente. Para utilizadores de leitores de ecrã, estes podem identificar as células de preenchimento pela sua cor de fundo, a qual é anunciada pelo leitor. Por exemplo, o VoiceOver lê "preenchimento cor sólida amarela". Utilize as hiperligações existentes na checklist para navegar até às folhas interiores, cada uma dedicada à recolha de evidências para cada um dos requisitos. Nas folhas interiores - da 1.1 à 10.1 - apenas é necessário assinalar com um 'X' as colunas S (Sim), N (Não), NA (Não Aplicável), respetivamente as células B3, C3 e D3. De notar que estas células são automaticamente recolhidas e copiadas para a Folha Síntese. Nas folhas interiores, por debaixo da indicação "Listagem de evidências", deve colocar as imagens e efetuar as notas que o levam a considerar que passa esse requisito (Sim), a justificar porque não passa esse requisito (Não) ou porque é que o requisito não é aplicável (NA) ao sítio web em análise.

Sheet 1.1
A1: voltar à página inicial | F1: 1 - MENUS DE NAVEGAÇÃO
B2: S | C2: N | D2: NA
B3: x | F3: 1.1 O menu de navegação deve estar estruturado como uma lista de opções
F4: Para que possa ser bem interpretado por tecnologias de apoio, os menus e submenus devem estar estruturados com elementos nativos, do tipo <ul>, ou com a semântica e o estado dos elementos identificados com técnicas em ARIA.
B6: Listagem de evidências
J7: Notas:

Sheet 1.2
A1: voltar à página inicial | F1: 1 - MENUS DE NAVEGAÇÃO
B2: S | C2: N | D2: NA
B3: x | F3: 1.2 É possível selecionar as opções e as subopções do menu quer com rato quer com teclado
F4: Deve ser possível percorrer a estrutura de navegação quer com um dispositivo apontador quer com o teclado.
B6: Listagem de evidências
J7: Notas:

Sheet 1.3
A1: voltar à página inicial | F1: 1 - MENUS DE NAVEGAÇÃO
B2: S | C2: N | D2: NA
D3: X | F3: 1.3 As imagens-link, caso existam no menu, devem ter o correspondente equivalente alternativo em texto
F4: As imagens corretamente legendadas permitem ser interpretadas como texto, tornando todas as opções de navegação acessíveis.
B6: Listagem de evidências
J7: Notas:
J8: asdf çlkj kd kj klç j kçj dfasd kçjkj k jd jça l kd j kdk kdk dj kj salsçdlk dff

Sheet 2.1
A1: voltar à página inicial | F1: 2 - TÍTULOS E SUBTÍTULOS
B2: S | C2: N | D2: NA
D3: x | F3: 2.1 Existe um título <h1> marcado na página
F4: O título principal de cada página, que sumariza o seu conteúdo, deve ser identificado como o primeiro nível dos títulos (h1). Não deverá ser utilizado mais do que um <h1> por página.
B6: Listagem de evidências
J7: Notas:

Sheet 2.2
A1: voltar à página inicial | F1: 2 - TÍTULOS E SUBTÍTULOS
B2: S | C2: N | D2: NA
D3: x | F3: 2.2 Existe uma marcação hierarquizada de títulos e subtítulos na página (<h1>...<h6>)
F4: Os títulos são empregues de forma hierárquica para melhor estruturar os conteúdos, das informações mais gerais às mais particulares. Deverão ser usados de forma consistente por todo o sítio Web.
B6: Listagem de evidências
J7: Notas:

Sheet 3.1
A1: voltar à página inicial | F1: 3 - TABELAS DE DADOS
B2: S | C2: N | D2: NA
D3: x | F3: 3.1 As células que constituem os cabeçalhos da tabela estão marcadas com o elemento <th>
F4: Identificar os cabeçalhos de uma tabela ajuda a melhor identificar os eixos que caracterizam a informação em cada célula.
B6: Listagem de evidências
J7: Notas:

Sheet 3.2
A1: voltar à página inicial | F1: 3 - TABELAS DE DADOS
B2: S | C2: N | D2: NA
D3: x | F3: 3.2 A legenda da tabela está marcada com o elemento <caption>
F4: Todas as tabelas deverão conter uma legenda descritiva do seu conteúdo, incluindo as fontes da informação, se necessário.
B6: Listagem de evidências
J7: Notas:

Sheet 4.1
A1: voltar à página inicial | F1: 4 - ESTRUTURA DA INFORMAÇÃO
B2: S | C2: N | D2: NA
C3: x | F3: 4.1 Ao clicar com o rato na etiqueta, o cursor surge no respetivo campo de edição
F4: De forma a tornar a seleção de campos pequenos mais fácil, a legenda deverá estar associada ao campo respetivo com o elemento <label>, pois desta forma aumenta-se a sua área clicável. Para os utilizadores de leitores de ecrã (pessoas cegas) a associação da etiqueta ao campo de edição é também fundamental.
B6: Listagem de evidências
J7: Notas:

Sheet 4.2
A1: voltar à página inicial | F1: 4 - ESTRUTURA DA INFORMAÇÃO
B2: S | C2: N | D2: NA
D3: x | F3: 4.2 É possível identificar os campos de preenchimento obrigatório quando se usa apenas um leitor de ecrã
F4: Os campos obrigatórios devem ser preferencialmente agrupados na parte inicial de um formulário e claramente identificados como tal. Se não for possível, cada campo deverá estar identificado textualmente ou como Obrigatório ou como Opcional. Não deverão ser usados apenas símbolos ou cores como elemento identificador.
B6: Listagem de evidências
J7: Notas:

Sheet 4.3
A1: voltar à página inicial | F1: 4 - ESTRUTURA DA INFORMAÇÃO
B2: S | C2: N | D2: NA
D3: x | F3: 4.3 É possível localizar e ler as mensagens de erro usando apenas um leitor de ecrã
F4: Os erros identificados no decorrer do preenchimento de um formulário deverão preferencialmente ser listados de forma condensada, direcionando cada elemento da lista ao respetivo campo. Cada campo deverá associar a mensagem de erro a si próprio. As mensagens de erro deverão ser breves e claras.
B6: Listagem de evidências
J7: Notas:

Sheet 5.1
A1: voltar à página inicial | F1: 5 - GRÁFICOS E IMAGENS-LINK
B2: S | C2: N | D2: NA
B3: x | F3: 5.1 A imagem ou gráfico tem um equivalente alternativo em texto curto e correto
F4: As imagens não decorativas deverão ter uma descrição breve associada, nomeadamente através do uso do atributo <ALT>. Esta legenda deve descrever fielmente o propósito da imagem no contexto em que se encontra.
B6: Listagem de evidências
J7: Notas:

Sheet 5.2
A1: voltar à página inicial | F1: 5 - GRÁFICOS E IMAGENS-LINK
B2: S | C2: N | D2: NA
D3: X | F3: 5.2 O gráfico é acompanhado de uma descrição longa
F4: Gráficos resultantes de análise de dados deverão ser acompanhados da tabela de dados que lhe deu origem, de forma a preservar o acesso à informação completa.
B6: Listagem de evidências
J7: Notas:

Sheet 5.3
A1: voltar à página inicial | F1: 5 - GRÁFICOS E IMAGENS-LINK
B2: S | C2: N | D2: NA
B3: x | F3: 5.3 As imagens-link têm um equivalente alternativo correto
F4: As hiperligações compostas apenas por uma imagem obrigam que esta tenha um equivalente alternativo em texto que represente fielmente o destino da hiperligação.
B6: Listagem de evidências
J7: Notas:

Sheet 6.1
A1: voltar à página inicial | F1: 6 - CONTRASTE
B2: S | C2: N | D2: NA
B3: x | F3: 6.1 No corpo de um documento, o rácio de contraste entre a cor do texto normal (menor que 18 pontos ou menor que 14 pontos negrito) e a cor do fundo é superior a 4,5:1
F4: Deve assegurar-se no corpo do documento que o rácio de contraste entre a cor do texto e a cor de fundo é, no mínimo, de 4,5:1, de forma a assegurar a sua legibilidade para utilizadores com deficiências da visão.
B6: Listagem de evidências
J7: Notas:

Sheet 6.2
A1: voltar à página inicial | F1: 6 - CONTRASTE
B2: S | C2: N | D2: NA
B3: x | F3: 6.2 O rácio de contraste entre a cor do texto de tamanho grande (maior ou igual que 18 pontos ou maior ou igual que 14 pontos negrito) e a cor do fundo é superior a 3:1
F4: Os textos de tamanho superior a 18 pontos, ou os textos de tamanho superior a 14 pontos mas a negrito, devem assegurar um rácio de contraste mínimo de 3:1 entre a cor do texto e a cor do fundo.
B6: Listagem de evidências
J7: Notas:

Sheet 7.1
A1: voltar à página inicial | F1: 7 - PLAYERS
B2: S | C2: N | D2: NA
B3: x | F3: 7.1 Deve ser possível ativar os botões de controlo do leitor quer com o rato quer com o teclado
F4: Os leitores de multimédia não devem iniciar automaticamente a reprodução dos elementos e têm de ser operáveis usando apenas um rato ou usando apenas um teclado.
B6: Listagem de evidências
J7: Notas:

Sheet 7.2
A1: voltar à página inicial | F1: 7 - PLAYERS
B2: S | C2: N | D2: NA
B3: x | F3: 7.2 O vídeo ou o áudio deve conter preferencialmente legendas fechadas sincronizadas. Caso não seja possível, no mínimo, deve disponibilizar-se uma transcrição textual
F4: O uso de legendas fechadas destina-se essencialmente a pessoas surdas. Recomendam-se para a produção das referidas legendas técnicas de tradaptação conhecidas para o efeito bem como o enriquecimento das legendas de sons cuja mensagem não seja percetível visualmente (por ex., o toque de uma campaínha de uma porta). Para vídeos com mensagens eminentemente visuais (por ex., um vídeo com música de fundo que passa um conjunto de mensagens apenas percetíveis à visão), os mesmos devem ter uma versão equivalente alternativa com produção de audiodescrição. A audiodescrição é fundamental para que pessoas cegas ou com baixa visão possam percecionar a mensagem veiculada.
B6: Listagem de evidências
J7: Notas:

Sheet 8.1
A1: voltar à página inicial | F1: 8 - ESTRUTURA DA PÁGINA
B2: S | C2: N | D2: NA
B3: x | F3: 8.1 Quando se retira a CSS, todos os elementos HTML devem alinhar à esquerda
F4: Quando se desativam todos os estilos visuais, o conteúdo da página é apresentado alinhado à esquerda e apresenta-se de forma linear.
B6: Listagem de evidências
J7: Notas:

Sheet 8.2
A1: voltar à página inicial | F1: 8 - ESTRUTURA DA PÁGINA
B2: S | C2: N | D2: NA
B3: x | F3: 8.2 Quando se retira a CSS, a informação aparece numa ordem lógica
F4: Tendo em conta que o posicionamento de elementos no código pode não refletir a ordem visual de leitura, deve ser assegurada a ordem correta do conteúdo quando se desativam os estilos visuais.
B6: Listagem de evidências
J7: Notas:

Sheet 8.3
A1: voltar à página inicial | F1: 8 - ESTRUTURA DA PÁGINA
B2: S | C2: N | D2: NA
B3: x | F3: 8.3 Quando se retira a CSS, deve ser possível reconhecer a semântica dos diversos elementos
F4: Os elementos que estruturam o conteúdo devem estar semanticamente bem estruturados, usando os elementos de HTML apropriados a cada tipo de conteúdo, como títulos, parágrafos, listas, ...
B6: Listagem de evidências
J7: Notas:

Sheet 8.4
A1: voltar à página inicial | F1: 8 - ESTRUTURA DA PÁGINA
B2: S | C2: N | D2: NA
B3: x | F3: 8.4 Quando se retira a CSS, a informação relevante permanece visível
F4: Toda a informação visível deve permanecer na página sob forma textual, quando se desativam os estilos visuais.
B6: Listagem de evidências
J7: Notas:

Sheet 8.5
A1: voltar à página inicial | F1: 8 - ESTRUTURA DA PÁGINA
B2: S | C2: N | D2: NA
B3: x | F3: 8.5 A maquetização da página é feita sem recorrer ao elemento <table>
F4: A estrutura de composição gráfica da página não é feita recorrendo a elementos de tabela mas sim a uma maior diversidade de elementos semânticos (por ex., <main>) e genéricos (por ex., <div>), que permitem a recomposição visual para diferentes tipos e dimensões de ecrã.
B6: Listagem de evidências
J7: Notas:

Sheet 9.1
A1: voltar à página inicial | F1: 9 - SINTAXE DO HTML
B2: S | C2: N | D2: NA
B3: x | F3: 9.1 A página apresenta-se sem erros de (x)HTML
F4: A página não deve apresentar erros de sintaxe de (x)HTML.
B6: Listagem de evidências
J7: Notas:

Sheet 10.1
A1: voltar à página inicial | F1: 10 - FICHEIROS PDF
B2: S | C2: N | D2: NA
B3: x | F3: 10.1 Nos ficheiros PDF é possível, no mínimo, extrair o conteúdo textual para formato TXT
F4: Os ficheiros PDF devem ter o seu texto inteiramente extraível para que se possa passar o respetivo conteúdo para um processador de texto sem perda de informação.
B6: Listagem de evidências
J7: Notas:
